BEGIN:VCALENDAR
VERSION:2.0
PRODID:-//NetAuktion//NONSGML NetAuktion//SV
METHOD:PUBLISH
BEGIN:VEVENT
UID:20260425T134313-1821730008-netauktion.se
DTSTAMP:20260425T134313
DTSTART:20090520T233200
DTEND:20090520T233500
SUMMARY:Netauktion objekt 0163-604 Auktionspåminnelse
DESCRIPTION:Länk till objektet du var intresserad av: https://staging.netauktion.se/auktion/produkt/bonusauktion-nya-smycken-varde-3800kr
END:VEVENT
END:VCALENDAR
