BEGIN:VCALENDAR
VERSION:2.0
PRODID:-//NetAuktion//NONSGML NetAuktion//SV
METHOD:PUBLISH
BEGIN:VEVENT
UID:20260425T135428-1266332306-netauktion.se
DTSTAMP:20260425T135428
DTSTART:20090521T012100
DTEND:20090521T012400
SUMMARY:Netauktion objekt 0163-610 Auktionspåminnelse
DESCRIPTION:Länk till objektet du var intresserad av: https://staging.netauktion.se/auktion/produkt/nya-smycken-fran-zr-design-varde-39-000kr-2
END:VEVENT
END:VCALENDAR
