BEGIN:VCALENDAR
VERSION:2.0
PRODID:-//NetAuktion//NONSGML NetAuktion//SV
METHOD:PUBLISH
BEGIN:VEVENT
UID:20260425T134347-615122622-netauktion.se
DTSTAMP:20260425T134347
DTSTART:20090514T162400
DTEND:20090514T162700
SUMMARY:Netauktion objekt 0163-620 Auktionspåminnelse
DESCRIPTION:Länk till objektet du var intresserad av: https://staging.netauktion.se/auktion/produkt/nya-smycken-fran-zr-design-varde-4100kr-7
END:VEVENT
END:VCALENDAR
