BEGIN:VCALENDAR
VERSION:2.0
PRODID:-//NetAuktion//NONSGML NetAuktion//SV
METHOD:PUBLISH
BEGIN:VEVENT
UID:20260421T102833-332335074-netauktion.se
DTSTAMP:20260421T102833
DTSTART:20141222T031300
DTEND:20141222T031600
SUMMARY:Netauktion objekt 1615-282 Auktionspåminnelse
DESCRIPTION:Länk till objektet du var intresserad av: https://staging.netauktion.se/auktion/produkt/sallskapsspel-playboy-6st
END:VEVENT
END:VCALENDAR
