BEGIN:VCALENDAR
VERSION:2.0
PRODID:-//NetAuktion//NONSGML NetAuktion//SV
METHOD:PUBLISH
BEGIN:VEVENT
UID:20260421T104303-1905681477-netauktion.se
DTSTAMP:20260421T104303
DTSTART:20080627T020400
DTEND:20080627T020700
SUMMARY:Netauktion objekt 0054-021 Auktionspåminnelse
DESCRIPTION:Länk till objektet du var intresserad av: https://staging.netauktion.se/auktion/produkt/10st-mattor-sultan-terra-lotta-mfl
END:VEVENT
END:VCALENDAR
