BEGIN:VCALENDAR
VERSION:2.0
PRODID:-//NetAuktion//NONSGML NetAuktion//SV
METHOD:PUBLISH
BEGIN:VEVENT
UID:20260425T123242-1168563622-netauktion.se
DTSTAMP:20260425T123242
DTSTART:20090521T012800
DTEND:20090521T013100
SUMMARY:Netauktion objekt 0163-633 Auktionspåminnelse
DESCRIPTION:Länk till objektet du var intresserad av: https://staging.netauktion.se/auktion/produkt/nya-smycken-fran-zr-samt-izzi-varde-41-600kr
END:VEVENT
END:VCALENDAR
