BEGIN:VCALENDAR
VERSION:2.0
PRODID:-//NetAuktion//NONSGML NetAuktion//SV
METHOD:PUBLISH
BEGIN:VEVENT
UID:20260425T135429-820600522-netauktion.se
DTSTAMP:20260425T135429
DTSTART:20090521T013800
DTEND:20090521T014100
SUMMARY:Netauktion objekt 0163-637 Auktionspåminnelse
DESCRIPTION:Länk till objektet du var intresserad av: https://staging.netauktion.se/auktion/produkt/nya-smycken-fran-zr-design-varde-4100kr-8
END:VEVENT
END:VCALENDAR
