BEGIN:VCALENDAR
VERSION:2.0
PRODID:-//NetAuktion//NONSGML NetAuktion//SV
METHOD:PUBLISH
BEGIN:VEVENT
UID:20260425T134314-1613278314-netauktion.se
DTSTAMP:20260425T134314
DTSTART:20090518T233200
DTEND:20090518T233500
SUMMARY:Netauktion objekt 0163-639 Auktionspåminnelse
DESCRIPTION:Länk till objektet du var intresserad av: https://staging.netauktion.se/auktion/produkt/nya-smycken-fran-zr-design-varde-4100kr-2
END:VEVENT
END:VCALENDAR
