BEGIN:VCALENDAR
VERSION:2.0
PRODID:-//NetAuktion//NONSGML NetAuktion//SV
METHOD:PUBLISH
BEGIN:VEVENT
UID:20260425T134354-702867636-netauktion.se
DTSTAMP:20260425T134354
DTSTART:20090515T014600
DTEND:20090515T014900
SUMMARY:Netauktion objekt 0163-641 Auktionspåminnelse
DESCRIPTION:Länk till objektet du var intresserad av: https://staging.netauktion.se/auktion/produkt/nya-smycken-zr-design-varde-44-400kr
END:VEVENT
END:VCALENDAR
