BEGIN:VCALENDAR
VERSION:2.0
PRODID:-//NetAuktion//NONSGML NetAuktion//SV
METHOD:PUBLISH
BEGIN:VEVENT
UID:20260425T134355-1345581846-netauktion.se
DTSTAMP:20260425T134355
DTSTART:20090514T162500
DTEND:20090514T162800
SUMMARY:Netauktion objekt 0163-645 Auktionspåminnelse
DESCRIPTION:Länk till objektet du var intresserad av: https://staging.netauktion.se/auktion/produkt/nya-smycken-zr-design-varde-4200kr-2
END:VEVENT
END:VCALENDAR
