BEGIN:VCALENDAR
VERSION:2.0
PRODID:-//NetAuktion//NONSGML NetAuktion//SV
METHOD:PUBLISH
BEGIN:VEVENT
UID:20260425T134312-632801745-netauktion.se
DTSTAMP:20260425T134312
DTSTART:20090518T232700
DTEND:20090518T233000
SUMMARY:Netauktion objekt 0163-647 Auktionspåminnelse
DESCRIPTION:Länk till objektet du var intresserad av: https://staging.netauktion.se/auktion/produkt/nya-smycken-zr-design-varde-4200kr-4
END:VEVENT
END:VCALENDAR
