BEGIN:VCALENDAR
VERSION:2.0
PRODID:-//NetAuktion//NONSGML NetAuktion//SV
METHOD:PUBLISH
BEGIN:VEVENT
UID:20260425T123433-1393893221-netauktion.se
DTSTAMP:20260425T123433
DTSTART:20090521T012800
DTEND:20090521T013100
SUMMARY:Netauktion objekt 0163-655 Auktionspåminnelse
DESCRIPTION:Länk till objektet du var intresserad av: https://staging.netauktion.se/auktion/produkt/nya-smycken-fran-zr-samt-izzi-varde-4000kr-4
END:VEVENT
END:VCALENDAR
