BEGIN:VCALENDAR
VERSION:2.0
PRODID:-//NetAuktion//NONSGML NetAuktion//SV
METHOD:PUBLISH
BEGIN:VEVENT
UID:20260421T104304-1508695840-netauktion.se
DTSTAMP:20260421T104304
DTSTART:20080627T020500
DTEND:20080627T020800
SUMMARY:Netauktion objekt 0054-024 Auktionspåminnelse
DESCRIPTION:Länk till objektet du var intresserad av: https://staging.netauktion.se/auktion/produkt/30st-badrumsmattor-olika-storlekarfarger
END:VEVENT
END:VCALENDAR
