BEGIN:VCALENDAR
VERSION:2.0
PRODID:-//NetAuktion//NONSGML NetAuktion//SV
METHOD:PUBLISH
BEGIN:VEVENT
UID:20260421T104316-1710557832-netauktion.se
DTSTAMP:20260421T104316
DTSTART:20131030T003300
DTEND:20131030T003600
SUMMARY:Netauktion objekt 1312-303 Auktionspåminnelse
DESCRIPTION:Länk till objektet du var intresserad av: https://staging.netauktion.se/auktion/produkt/lyktor-dekorationssand-teburkar-mm
END:VEVENT
END:VCALENDAR
