BEGIN:VCALENDAR
VERSION:2.0
PRODID:-//NetAuktion//NONSGML NetAuktion//SV
METHOD:PUBLISH
BEGIN:VEVENT
UID:20260425T134355-1975387395-netauktion.se
DTSTAMP:20260425T134355
DTSTART:20090518T234000
DTEND:20090518T234300
SUMMARY:Netauktion objekt 0163-661 Auktionspåminnelse
DESCRIPTION:Länk till objektet du var intresserad av: https://staging.netauktion.se/auktion/produkt/nya-smycken-fran-zr-design-varde-4400kr-5
END:VEVENT
END:VCALENDAR
