BEGIN:VCALENDAR
VERSION:2.0
PRODID:-//NetAuktion//NONSGML NetAuktion//SV
METHOD:PUBLISH
BEGIN:VEVENT
UID:20260421T102642-443220878-netauktion.se
DTSTAMP:20260421T102642
DTSTART:20080627T021600
DTEND:20080627T021900
SUMMARY:Netauktion objekt 0054-025 Auktionspåminnelse
DESCRIPTION:Länk till objektet du var intresserad av: https://staging.netauktion.se/auktion/produkt/ca-100st-blandade-badrumsmattor-dormattor
END:VEVENT
END:VCALENDAR
