BEGIN:VCALENDAR
VERSION:2.0
PRODID:-//NetAuktion//NONSGML NetAuktion//SV
METHOD:PUBLISH
BEGIN:VEVENT
UID:20260425T134354-1064784788-netauktion.se
DTSTAMP:20260425T134354
DTSTART:20090515T011400
DTEND:20090515T011700
SUMMARY:Netauktion objekt 0128-138 Auktionspåminnelse
DESCRIPTION:Länk till objektet du var intresserad av: https://staging.netauktion.se/auktion/produkt/90x180-ny-whiteboard-tavla
END:VEVENT
END:VCALENDAR
