BEGIN:VCALENDAR
VERSION:2.0
PRODID:-//NetAuktion//NONSGML NetAuktion//SV
METHOD:PUBLISH
BEGIN:VEVENT
UID:20260425T134355-1885241348-netauktion.se
DTSTAMP:20260425T134355
DTSTART:20090515T011300
DTEND:20090515T011600
SUMMARY:Netauktion objekt 0128-139 Auktionspåminnelse
DESCRIPTION:Länk till objektet du var intresserad av: https://staging.netauktion.se/auktion/produkt/90x180-ny-whiteboard-tavla-2
END:VEVENT
END:VCALENDAR
