BEGIN:VCALENDAR
VERSION:2.0
PRODID:-//NetAuktion//NONSGML NetAuktion//SV
METHOD:PUBLISH
BEGIN:VEVENT
UID:20260425T123244-1086812442-netauktion.se
DTSTAMP:20260425T123244
DTSTART:20090521T014100
DTEND:20090521T014400
SUMMARY:Netauktion objekt 0163-671 Auktionspåminnelse
DESCRIPTION:Länk till objektet du var intresserad av: https://staging.netauktion.se/auktion/produkt/nya-vaskor-samt-mappar-innehallandes-block-samt-miniraknare-zr-design
END:VEVENT
END:VCALENDAR
