BEGIN:VCALENDAR
VERSION:2.0
PRODID:-//NetAuktion//NONSGML NetAuktion//SV
METHOD:PUBLISH
BEGIN:VEVENT
UID:20260425T134349-1576715626-netauktion.se
DTSTAMP:20260425T134349
DTSTART:20090521T012000
DTEND:20090521T012300
SUMMARY:Netauktion objekt 0163-686 Auktionspåminnelse
DESCRIPTION:Länk till objektet du var intresserad av: https://staging.netauktion.se/auktion/produkt/nya-smyckespasar-zr-design-9
END:VEVENT
END:VCALENDAR
