BEGIN:VCALENDAR
VERSION:2.0
PRODID:-//NetAuktion//NONSGML NetAuktion//SV
METHOD:PUBLISH
BEGIN:VEVENT
UID:20260425T135429-1780280750-netauktion.se
DTSTAMP:20260425T135429
DTSTART:20090521T012100
DTEND:20090521T012400
SUMMARY:Netauktion objekt 0163-687 Auktionspåminnelse
DESCRIPTION:Länk till objektet du var intresserad av: https://staging.netauktion.se/auktion/produkt/nya-smyckespasar-zr-design-4
END:VEVENT
END:VCALENDAR
