BEGIN:VCALENDAR
VERSION:2.0
PRODID:-//NetAuktion//NONSGML NetAuktion//SV
METHOD:PUBLISH
BEGIN:VEVENT
UID:20260421T104432-354640121-netauktion.se
DTSTAMP:20260421T104432
DTSTART:20080627T015900
DTEND:20080627T020200
SUMMARY:Netauktion objekt 0053-002 Auktionspåminnelse
DESCRIPTION:Länk till objektet du var intresserad av: https://staging.netauktion.se/auktion/produkt/rolling-stones-dvd-boxar-nya-och-obrutna-forpackningar-504st
END:VEVENT
END:VCALENDAR
