BEGIN:VCALENDAR
VERSION:2.0
PRODID:-//NetAuktion//NONSGML NetAuktion//SV
METHOD:PUBLISH
BEGIN:VEVENT
UID:20260425T122256-1503788575-netauktion.se
DTSTAMP:20260425T122256
DTSTART:20131218T013100
DTEND:20131218T013400
SUMMARY:Netauktion objekt 1645-008 Auktionspåminnelse
DESCRIPTION:Länk till objektet du var intresserad av: https://staging.netauktion.se/auktion/produkt/fikagrupp-med-12-stolar-fran-skandiform
END:VEVENT
END:VCALENDAR
