BEGIN:VCALENDAR
VERSION:2.0
PRODID:-//NetAuktion//NONSGML NetAuktion//SV
METHOD:PUBLISH
BEGIN:VEVENT
UID:20260421T104305-1318093980-netauktion.se
DTSTAMP:20260421T104305
DTSTART:20091030T002400
DTEND:20091030T002700
SUMMARY:Netauktion objekt 0245-054 Auktionspåminnelse
DESCRIPTION:Länk till objektet du var intresserad av: https://staging.netauktion.se/auktion/produkt/produktbladsmappar-3
END:VEVENT
END:VCALENDAR
