BEGIN:VCALENDAR
VERSION:2.0
PRODID:-//NetAuktion//NONSGML NetAuktion//SV
METHOD:PUBLISH
BEGIN:VEVENT
UID:20260425T122333-226661325-netauktion.se
DTSTAMP:20260425T122333
DTSTART:20131218T014000
DTEND:20131218T014300
SUMMARY:Netauktion objekt 1645-036 Auktionspåminnelse
DESCRIPTION:Länk till objektet du var intresserad av: https://staging.netauktion.se/auktion/produkt/skrivbord-och-forvaringshyllor-5
END:VEVENT
END:VCALENDAR
