BEGIN:VCALENDAR
VERSION:2.0
PRODID:-//NetAuktion//NONSGML NetAuktion//SV
METHOD:PUBLISH
BEGIN:VEVENT
UID:20260421T103236-564625256-netauktion.se
DTSTAMP:20260421T103236
DTSTART:20090630T190500
DTEND:20090630T190800
SUMMARY:Netauktion objekt 0163-714 Auktionspåminnelse
DESCRIPTION:Länk till objektet du var intresserad av: https://staging.netauktion.se/auktion/produkt/nya-skarp-samt-nyckelhallare-5
END:VEVENT
END:VCALENDAR
