BEGIN:VCALENDAR
VERSION:2.0
PRODID:-//NetAuktion//NONSGML NetAuktion//SV
METHOD:PUBLISH
BEGIN:VEVENT
UID:20260421T104629-2144237667-netauktion.se
DTSTAMP:20260421T104629
DTSTART:20131129T010300
DTEND:20131129T010600
SUMMARY:Netauktion objekt 1146-455 Auktionspåminnelse
DESCRIPTION:Länk till objektet du var intresserad av: https://staging.netauktion.se/auktion/produkt/armband-halsband-onyxer-5
END:VEVENT
END:VCALENDAR
