BEGIN:VCALENDAR
VERSION:2.0
PRODID:-//NetAuktion//NONSGML NetAuktion//SV
METHOD:PUBLISH
BEGIN:VEVENT
UID:20260421T104633-790678358-netauktion.se
DTSTAMP:20260421T104633
DTSTART:20131129T022000
DTEND:20131129T022300
SUMMARY:Netauktion objekt 1508-029 Auktionspåminnelse
DESCRIPTION:Länk till objektet du var intresserad av: https://staging.netauktion.se/auktion/produkt/elscooter-meyra
END:VEVENT
END:VCALENDAR
