BEGIN:VCALENDAR
VERSION:2.0
PRODID:-//NetAuktion//NONSGML NetAuktion//SV
METHOD:PUBLISH
BEGIN:VEVENT
UID:20260421T103257-1555609768-netauktion.se
DTSTAMP:20260421T103257
DTSTART:20131129T021300
DTEND:20131129T021600
SUMMARY:Netauktion objekt 1508-036 Auktionspåminnelse
DESCRIPTION:Länk till objektet du var intresserad av: https://staging.netauktion.se/auktion/produkt/elscooter-sterling-elite-1
END:VEVENT
END:VCALENDAR
