BEGIN:VCALENDAR
VERSION:2.0
PRODID:-//NetAuktion//NONSGML NetAuktion//SV
METHOD:PUBLISH
BEGIN:VEVENT
UID:20260425T122550-1547419241-netauktion.se
DTSTAMP:20260425T122550
DTSTART:20131219T010800
DTEND:20131219T011100
SUMMARY:Netauktion objekt 1644-005 Auktionspåminnelse
DESCRIPTION:Länk till objektet du var intresserad av: https://staging.netauktion.se/auktion/produkt/transferpress-for-tryck-pa-muggar-glas-mm
END:VEVENT
END:VCALENDAR
