BEGIN:VCALENDAR
VERSION:2.0
PRODID:-//NetAuktion//NONSGML NetAuktion//SV
METHOD:PUBLISH
BEGIN:VEVENT
UID:20260425T123433-1696685677-netauktion.se
DTSTAMP:20260425T123433
DTSTART:20131219T011700
DTEND:20131219T012000
SUMMARY:Netauktion objekt 1644-021 Auktionspåminnelse
DESCRIPTION:Länk till objektet du var intresserad av: https://staging.netauktion.se/auktion/produkt/mobiltillbehor-skarmskydd-skal-mm
END:VEVENT
END:VCALENDAR
