BEGIN:VCALENDAR
VERSION:2.0
PRODID:-//NetAuktion//NONSGML NetAuktion//SV
METHOD:PUBLISH
BEGIN:VEVENT
UID:20260425T123448-24570588-netauktion.se
DTSTAMP:20260425T123448
DTSTART:20131219T012000
DTEND:20131219T012300
SUMMARY:Netauktion objekt 1644-023 Auktionspåminnelse
DESCRIPTION:Länk till objektet du var intresserad av: https://staging.netauktion.se/auktion/produkt/fotopapper-3
END:VEVENT
END:VCALENDAR
