BEGIN:VCALENDAR
VERSION:2.0
PRODID:-//NetAuktion//NONSGML NetAuktion//SV
METHOD:PUBLISH
BEGIN:VEVENT
UID:20260421T104617-840597649-netauktion.se
DTSTAMP:20260421T104617
DTSTART:20131129T010100
DTEND:20131129T010400
SUMMARY:Netauktion objekt 1146-457 Auktionspåminnelse
DESCRIPTION:Länk till objektet du var intresserad av: https://staging.netauktion.se/auktion/produkt/silverhalsband-royalty-gold-mfl
END:VEVENT
END:VCALENDAR
