BEGIN:VCALENDAR
VERSION:2.0
PRODID:-//NetAuktion//NONSGML NetAuktion//SV
METHOD:PUBLISH
BEGIN:VEVENT
UID:20260421T103236-649746569-netauktion.se
DTSTAMP:20260421T103236
DTSTART:20131129T023000
DTEND:20131129T023300
SUMMARY:Netauktion objekt 1365-054 Auktionspåminnelse
DESCRIPTION:Länk till objektet du var intresserad av: https://staging.netauktion.se/auktion/produkt/brandstege-3-delar-3-2-8
END:VEVENT
END:VCALENDAR
