BEGIN:VCALENDAR
VERSION:2.0
PRODID:-//NetAuktion//NONSGML NetAuktion//SV
METHOD:PUBLISH
BEGIN:VEVENT
UID:20260421T103128-439737804-netauktion.se
DTSTAMP:20260421T103128
DTSTART:20131220T021400
DTEND:20131220T021700
SUMMARY:Netauktion objekt 1643-121 Auktionspåminnelse
DESCRIPTION:Länk till objektet du var intresserad av: https://staging.netauktion.se/auktion/produkt/provtryckningspump-rems-push-mm
END:VEVENT
END:VCALENDAR
