BEGIN:VCALENDAR
VERSION:2.0
PRODID:-//NetAuktion//NONSGML NetAuktion//SV
METHOD:PUBLISH
BEGIN:VEVENT
UID:20260421T103135-1586309803-netauktion.se
DTSTAMP:20260421T103135
DTSTART:20131220T020800
DTEND:20131220T021100
SUMMARY:Netauktion objekt 1643-122 Auktionspåminnelse
DESCRIPTION:Länk till objektet du var intresserad av: https://staging.netauktion.se/auktion/produkt/tigersag-milwaukee-2
END:VEVENT
END:VCALENDAR
