BEGIN:VCALENDAR
VERSION:2.0
PRODID:-//NetAuktion//NONSGML NetAuktion//SV
METHOD:PUBLISH
BEGIN:VEVENT
UID:20260421T102706-523900349-netauktion.se
DTSTAMP:20260421T102706
DTSTART:20131223T031000
DTEND:20131223T031300
SUMMARY:Netauktion objekt 1550-001 Auktionspåminnelse
DESCRIPTION:Länk till objektet du var intresserad av: https://staging.netauktion.se/auktion/produkt/peugeot-107-10-5d-gbr170-07
END:VEVENT
END:VCALENDAR
