BEGIN:VCALENDAR
VERSION:2.0
PRODID:-//NetAuktion//NONSGML NetAuktion//SV
METHOD:PUBLISH
BEGIN:VEVENT
UID:20260421T104307-502686732-netauktion.se
DTSTAMP:20260421T104307
DTSTART:20140228T030900
DTEND:20140228T031200
SUMMARY:Netauktion objekt 1146-574 Auktionspåminnelse
DESCRIPTION:Länk till objektet du var intresserad av: https://staging.netauktion.se/auktion/produkt/smyckesset-4-delar-queen-garnet-9
END:VEVENT
END:VCALENDAR
