BEGIN:VCALENDAR
VERSION:2.0
PRODID:-//NetAuktion//NONSGML NetAuktion//SV
METHOD:PUBLISH
BEGIN:VEVENT
UID:20260421T102744-141105278-netauktion.se
DTSTAMP:20260421T102744
DTSTART:20131129T012900
DTEND:20131129T013200
SUMMARY:Netauktion objekt 1146-577 Auktionspåminnelse
DESCRIPTION:Länk till objektet du var intresserad av: https://staging.netauktion.se/auktion/produkt/smyckesset-4-delar-queen-garnet-6-3-2-2-12
END:VEVENT
END:VCALENDAR
