BEGIN:VCALENDAR
VERSION:2.0
PRODID:-//NetAuktion//NONSGML NetAuktion//SV
METHOD:PUBLISH
BEGIN:VEVENT
UID:20260421T102705-937061103-netauktion.se
DTSTAMP:20260421T102705
DTSTART:20140228T032400
DTEND:20140228T032700
SUMMARY:Netauktion objekt 1146-584 Auktionspåminnelse
DESCRIPTION:Länk till objektet du var intresserad av: https://staging.netauktion.se/auktion/produkt/smyckeset-4-delar-queen-pink-6
END:VEVENT
END:VCALENDAR
