BEGIN:VCALENDAR
VERSION:2.0
PRODID:-//NetAuktion//NONSGML NetAuktion//SV
METHOD:PUBLISH
BEGIN:VEVENT
UID:20260421T103136-1501713854-netauktion.se
DTSTAMP:20260421T103136
DTSTART:20140228T031800
DTEND:20140228T032100
SUMMARY:Netauktion objekt 1146-612 Auktionspåminnelse
DESCRIPTION:Länk till objektet du var intresserad av: https://staging.netauktion.se/auktion/produkt/smyckeset-4-delar-queen-dark-lavendel-4
END:VEVENT
END:VCALENDAR
