BEGIN:VCALENDAR
VERSION:2.0
PRODID:-//NetAuktion//NONSGML NetAuktion//SV
METHOD:PUBLISH
BEGIN:VEVENT
UID:20260421T104321-1240152448-netauktion.se
DTSTAMP:20260421T104321
DTSTART:20140228T031500
DTEND:20140228T031800
SUMMARY:Netauktion objekt 1146-623 Auktionspåminnelse
DESCRIPTION:Länk till objektet du var intresserad av: https://staging.netauktion.se/auktion/produkt/smyckeset-4-delar-queen-olive-7-4
END:VEVENT
END:VCALENDAR
