BEGIN:VCALENDAR
VERSION:2.0
PRODID:-//NetAuktion//NONSGML NetAuktion//SV
METHOD:PUBLISH
BEGIN:VEVENT
UID:20260421T104428-225224617-netauktion.se
DTSTAMP:20260421T104428
DTSTART:20131129T012700
DTEND:20131129T013000
SUMMARY:Netauktion objekt 1146-632 Auktionspåminnelse
DESCRIPTION:Länk till objektet du var intresserad av: https://staging.netauktion.se/auktion/produkt/smyckeset-4-delar-queen-olive-7-13
END:VEVENT
END:VCALENDAR
