BEGIN:VCALENDAR
VERSION:2.0
PRODID:-//NetAuktion//NONSGML NetAuktion//SV
METHOD:PUBLISH
BEGIN:VEVENT
UID:20260425T122108-1507971647-netauktion.se
DTSTAMP:20260425T122108
DTSTART:20131218T024500
DTEND:20131218T024800
SUMMARY:Netauktion objekt 1146-650 Auktionspåminnelse
DESCRIPTION:Länk till objektet du var intresserad av: https://staging.netauktion.se/auktion/produkt/27st-accessoarer-niiice-haga-eyeweare-4
END:VEVENT
END:VCALENDAR
