BEGIN:VCALENDAR
VERSION:2.0
PRODID:-//NetAuktion//NONSGML NetAuktion//SV
METHOD:PUBLISH
BEGIN:VEVENT
UID:20260425T122108-15126955-netauktion.se
DTSTAMP:20260425T122108
DTSTART:20131218T024700
DTEND:20131218T025000
SUMMARY:Netauktion objekt 1146-652 Auktionspåminnelse
DESCRIPTION:Länk till objektet du var intresserad av: https://staging.netauktion.se/auktion/produkt/solglasogon-smycken-niiice-mfl
END:VEVENT
END:VCALENDAR
