BEGIN:VCALENDAR
VERSION:2.0
PRODID:-//NetAuktion//NONSGML NetAuktion//SV
METHOD:PUBLISH
BEGIN:VEVENT
UID:20260425T135429-2099844886-netauktion.se
DTSTAMP:20260425T135429
DTSTART:20131218T030600
DTEND:20131218T030900
SUMMARY:Netauktion objekt 1146-654 Auktionspåminnelse
DESCRIPTION:Länk till objektet du var intresserad av: https://staging.netauktion.se/auktion/produkt/solglasogon-handvaska-smycken-trej-design-mfl
END:VEVENT
END:VCALENDAR
