BEGIN:VCALENDAR
VERSION:2.0
PRODID:-//NetAuktion//NONSGML NetAuktion//SV
METHOD:PUBLISH
BEGIN:VEVENT
UID:20260425T123254-687143671-netauktion.se
DTSTAMP:20260425T123254
DTSTART:20131218T025700
DTEND:20131218T030000
SUMMARY:Netauktion objekt 1146-655 Auktionspåminnelse
DESCRIPTION:Länk till objektet du var intresserad av: https://staging.netauktion.se/auktion/produkt/smink-armbandsur-lambretta-viva-la-diva
END:VEVENT
END:VCALENDAR
