BEGIN:VCALENDAR
VERSION:2.0
PRODID:-//NetAuktion//NONSGML NetAuktion//SV
METHOD:PUBLISH
BEGIN:VEVENT
UID:20260425T135429-932527248-netauktion.se
DTSTAMP:20260425T135429
DTSTART:20131218T025200
DTEND:20131218T025500
SUMMARY:Netauktion objekt 1146-656 Auktionspåminnelse
DESCRIPTION:Länk till objektet du var intresserad av: https://staging.netauktion.se/auktion/produkt/smink-armbandsur-lambretta-viva-la-diva-2
END:VEVENT
END:VCALENDAR
