BEGIN:VCALENDAR
VERSION:2.0
PRODID:-//NetAuktion//NONSGML NetAuktion//SV
METHOD:PUBLISH
BEGIN:VEVENT
UID:20260425T134247-835729851-netauktion.se
DTSTAMP:20260425T134247
DTSTART:20090521T005800
DTEND:20090521T010100
SUMMARY:Netauktion objekt 0163-770 Auktionspåminnelse
DESCRIPTION:Länk till objektet du var intresserad av: https://staging.netauktion.se/auktion/produkt/nya-skarp-samt-nyckelhangen-10
END:VEVENT
END:VCALENDAR
