BEGIN:VCALENDAR
VERSION:2.0
PRODID:-//NetAuktion//NONSGML NetAuktion//SV
METHOD:PUBLISH
BEGIN:VEVENT
UID:20260421T102801-1369459517-netauktion.se
DTSTAMP:20260421T102801
DTSTART:20131219T031100
DTEND:20131219T031400
SUMMARY:Netauktion objekt 1422-042 Auktionspåminnelse
DESCRIPTION:Länk till objektet du var intresserad av: https://staging.netauktion.se/auktion/produkt/duschmaskin-tab-412s-med-angenerator-och-exklusiv-sits-i-tra-2
END:VEVENT
END:VCALENDAR
